BEGIN:VCALENDAR
VERSION:2.0
PRODID:-//East Garton Parish - ECPv6.15.20//NONSGML v1.0//EN
CALSCALE:GREGORIAN
METHOD:PUBLISH
X-ORIGINAL-URL:https://eastgartonparish.uk
X-WR-CALDESC:Events for East Garton Parish
REFRESH-INTERVAL;VALUE=DURATION:PT1H
X-Robots-Tag:noindex
X-PUBLISHED-TTL:PT1H
BEGIN:VTIMEZONE
TZID:Europe/London
BEGIN:DAYLIGHT
TZOFFSETFROM:+0000
TZOFFSETTO:+0100
TZNAME:BST
DTSTART:20240331T010000
END:DAYLIGHT
BEGIN:STANDARD
TZOFFSETFROM:+0100
TZOFFSETTO:+0000
TZNAME:GMT
DTSTART:20241027T010000
END:STANDARD
BEGIN:DAYLIGHT
TZOFFSETFROM:+0000
TZOFFSETTO:+0100
TZNAME:BST
DTSTART:20250330T010000
END:DAYLIGHT
BEGIN:STANDARD
TZOFFSETFROM:+0100
TZOFFSETTO:+0000
TZNAME:GMT
DTSTART:20251026T010000
END:STANDARD
BEGIN:DAYLIGHT
TZOFFSETFROM:+0000
TZOFFSETTO:+0100
TZNAME:BST
DTSTART:20260329T010000
END:DAYLIGHT
BEGIN:STANDARD
TZOFFSETFROM:+0100
TZOFFSETTO:+0000
TZNAME:GMT
DTSTART:20261025T010000
END:STANDARD
END:VTIMEZONE
BEGIN:VEVENT
DTSTART;TZID=Europe/London:20250424T190000
DTEND;TZID=Europe/London:20250424T200000
DTSTAMP:20260420T185025
CREATED:20241119T104220Z
LAST-MODIFIED:20241119T104222Z
UID:1183-1745521200-1745524800@eastgartonparish.uk
SUMMARY:CLG Meeting
DESCRIPTION:Meeting of the Community Liaison Group with the SSE Thermal team. \n\n\n\n\nMembers of the public are welcome to sit in on the meetings and there is usually an open session at the end where you can voice opinions\, ask questions and raise issues. \n\n\n\nAgenda and presentation summary\n\n\n\n\nApologies / Previous Meeting Minutes\n\nPrevious minutes (when published)\n\n\n\n\n\nCLG Representatives Individual Updates\nIf you have anything you would like raising\, please contact the relevant representative who will bring it up at this point in the meeting: \n\n\n\n\n\n\nEGPC\n\n\n\nSteve Mattinson (chair) \n\n\n\nAvril Crawforth \n\n\n\n\n\nAPC\n\n\n\nno representative \n\n\n\n\n\nEast Riding Council\n\n\n\nCouncillor Whyte \n\n\n\n\n\n\n\nSt Michael’s Church\n\n\n\nJan Harvey \n\n\n\nJulie Dickinson Shaw \n\n\n\n\n\nSt Michael’s Wood\n\n\n\nTim Isherwood (vice chair) \n\n\n\n\n\n\n\nAldbrough Sports Hall\n\n\n\nMick Robinson \n\n\n\n\n\nEquestrian\n\n\n\nBillie Henry \n\n\n\n\n\nVOICE\n\n\n\nCaroline Turner
URL:https://eastgartonparish.uk/event/clg-meeting-8/
LOCATION:Aldbrough Sports Hall\, Aldbrough Sports Hall\, Garton Road\, Aldbrough\, HU11 4QA\, United Kingdom
CATEGORIES:CLG
ATTACH;FMTTYPE=image/jpeg:https://eastgartonparish.uk/wp-content/uploads/2023/09/SSE-Equinor-e1732012309257.jpg
END:VEVENT
END:VCALENDAR